BEGIN:VCALENDAR
VERSION:2.0
PRODID:-//Bumper Ball - ECPv4.3.4.2//NONSGML v1.0//EN
CALSCALE:GREGORIAN
METHOD:PUBLISH
X-WR-CALNAME:Bumper Ball
X-ORIGINAL-URL:http://www.bumperball.co.nz
X-WR-CALDESC:Events for Bumper Ball
BEGIN:VEVENT
DTSTART;TZID=Pacific/Auckland:20171111T090000
DTEND;TZID=Pacific/Auckland:20171111T140000
DTSTAMP:20180125T141819
CREATED:20171101T031350Z
LAST-MODIFIED:20171101T031350Z
UID:1267-1510390800-1510408800@www.bumperball.co.nz
SUMMARY:Ardmore School Gala
DESCRIPTION:A day full of fun and entertainment for the whole family!! Food\, stalls\, raffles\, games\, activities and silent auctions. Bumper Ball will be there so make sure you come along and join in the fun!
URL:http://www.bumperball.co.nz/event/ardmore-school-gala/
LOCATION:Papakura-Clevedon Road\, Clevedon\, 2582\, New Zealand
CATEGORIES:Auckland,Community Events,School Gala
ATTACH;FMTTYPE=image/jpeg:http://www.bumperball.co.nz/wp-content/uploads/2017/11/Ardmore-School.jpg
END:VEVENT
END:VCALENDAR