BEGIN:VCALENDAR
VERSION:2.0
PRODID:-//Bumper Ball - ECPv4.3.4.2//NONSGML v1.0//EN
CALSCALE:GREGORIAN
METHOD:PUBLISH
X-WR-CALNAME:Bumper Ball
X-ORIGINAL-URL:http://www.bumperball.co.nz
X-WR-CALDESC:Events for Bumper Ball
BEGIN:VEVENT
DTSTART;TZID=Pacific/Auckland:20170326T100000
DTEND;TZID=Pacific/Auckland:20170326T140000
DTSTAMP:20180125T142045
CREATED:20161125T213036Z
LAST-MODIFIED:20170309T024311Z
UID:397-1490522400-1490536800@www.bumperball.co.nz
SUMMARY:Beachlands & Maraetai Trolley Derby
DESCRIPTION:Come and see the Bumper Ball crew at the annual downhill trolley derby race in Beachlands / Maraetai. There’s lots of kart racing action for the whole family as well as plenty of other fun things to see and do including Bumper Ball!\n\nRacing starts at 10am
URL:http://www.bumperball.co.nz/event/beachlands-maraetai-trolley-derby/
LOCATION:Maraetai\, Auckland\, 2571
CATEGORIES:Auckland
ATTACH;FMTTYPE=image/jpeg:http://www.bumperball.co.nz/wp-content/uploads/2016/11/beachlands-trolley-derby.jpg
ORGANIZER;CN="Bumper%20Ball%20Auckland":MAILTO:info@bumperball.co.nz
END:VEVENT
END:VCALENDAR