BEGIN:VCALENDAR
VERSION:2.0
PRODID:-//Bumper Ball - ECPv4.3.4.2//NONSGML v1.0//EN
CALSCALE:GREGORIAN
METHOD:PUBLISH
X-WR-CALNAME:Bumper Ball
X-ORIGINAL-URL:http://www.bumperball.co.nz
X-WR-CALDESC:Events for Bumper Ball
BEGIN:VEVENT
DTSTART;TZID=Pacific/Auckland:20171021T100000
DTEND;TZID=Pacific/Auckland:20171021T160000
DTSTAMP:20180125T141807
CREATED:20171016T025044Z
LAST-MODIFIED:20171016T025044Z
UID:1259-1508580000-1508601600@www.bumperball.co.nz
SUMMARY:Bumper Ball Marching Fundraiser
DESCRIPTION:The Southern Stars Blue Jay Marching team are fundraising for their Nationals competition in Hamilton this year.\n\nSo they have a day of bumper ball fun for everyone\, so come along and bring some friends and have some fun!! There will be a sausage sizzle aswell.\n\nIt will be set up on the field at Boys high school on Herbert street\nprices are $5 for 5 mins\, $10 for 20 mins and $20 for 30 mins\nAges 7+ for safety.\n\nKeep an eye on this page for updates on cancellation due to weather.
URL:http://www.bumperball.co.nz/event/bumper-ball-marching-fundraiser/
LOCATION:181 Herbert Street\, Invercargill\, 9810\, New Zealand
CATEGORIES:Community Events,Invercargill,Southland
ATTACH;FMTTYPE=image/jpeg:http://www.bumperball.co.nz/wp-content/uploads/2016/12/random-13.jpg
END:VEVENT
END:VCALENDAR