BEGIN:VCALENDAR
VERSION:2.0
PRODID:-//Bumper Ball - ECPv4.3.4.2//NONSGML v1.0//EN
CALSCALE:GREGORIAN
METHOD:PUBLISH
X-WR-CALNAME:Bumper Ball
X-ORIGINAL-URL:http://www.bumperball.co.nz
X-WR-CALDESC:Events for Bumper Ball
BEGIN:VEVENT
DTSTART;TZID=Pacific/Auckland:20171202T120000
DTEND;TZID=Pacific/Auckland:20171202T160000
DTSTAMP:20180125T141900
CREATED:20171017T233430Z
LAST-MODIFIED:20171017T233430Z
UID:1263-1512216000-1512230400@www.bumperball.co.nz
SUMMARY:Christmas at Sunkist
DESCRIPTION:We're excited to be returning to the annual Beachlands Santa Parade! We'll be on the lawn in front of the Log Cabin with FREE Bumper Balls following the parade.\n\nThere's also lots of other activities including a talent quest\, local craft market and plenty of fantastic food and refreshments available\n\nSee you there!
URL:http://www.bumperball.co.nz/event/christmas-at-sunkist/
LOCATION:Sunkist Bay Rd\, Beachlands\, Auckland\, 2018
CATEGORIES:Auckland,Community Events,Special Events
ATTACH;FMTTYPE=image/jpeg:http://www.bumperball.co.nz/wp-content/uploads/2017/10/21687818_1426594984124534_7487638781857421069_n.jpg
END:VEVENT
END:VCALENDAR