BEGIN:VCALENDAR
VERSION:2.0
PRODID:-//Bumper Ball - ECPv4.3.4.2//NONSGML v1.0//EN
CALSCALE:GREGORIAN
METHOD:PUBLISH
X-WR-CALNAME:Bumper Ball
X-ORIGINAL-URL:http://www.bumperball.co.nz
X-WR-CALDESC:Events for Bumper Ball
BEGIN:VEVENT
DTSTART;TZID=Pacific/Auckland:20170219T110000
DTEND;TZID=Pacific/Auckland:20170219T150000
DTSTAMP:20180125T142336
CREATED:20170216T050815Z
LAST-MODIFIED:20170216T050815Z
UID:788-1487502000-1487516400@www.bumperball.co.nz
SUMMARY:Come Fly a Kite
DESCRIPTION:Henderson-Massey Local Board invites you to Come Fly a Kite – a free\, fun family event.\n\nBring along your kite or come and enjoy watching the big kites fly. Enjoy free rides on the Ferris wheel\, shoot hoops with the inflatable basketball game. Older children will enjoy the boot camp obstacle course and the giant slide. There will be a colouring competition and kite prizes. And there is FREE Bumper Ball as well!\n\nIf you get hungry\, there’ll be food trucks to buy from\, as well as free ice blocks.
URL:http://www.bumperball.co.nz/event/come-fly-a-kite/
LOCATION:Te Atatu Road\, Auckland
CATEGORIES:Auckland,Special Events
ATTACH;FMTTYPE=image/jpeg:http://www.bumperball.co.nz/wp-content/uploads/2017/02/38-273380_lores_qqchhf7o.jpg
END:VEVENT
END:VCALENDAR