BEGIN:VCALENDAR
VERSION:2.0
PRODID:-//Bumper Ball - ECPv4.3.4.2//NONSGML v1.0//EN
CALSCALE:GREGORIAN
METHOD:PUBLISH
X-WR-CALNAME:Bumper Ball
X-ORIGINAL-URL:http://www.bumperball.co.nz
X-WR-CALDESC:Events for Bumper Ball
BEGIN:VEVENT
DTSTART;TZID=Pacific/Auckland:20171014T190000
DTEND;TZID=Pacific/Auckland:20171014T210000
DTSTAMP:20180125T141801
CREATED:20171013T032144Z
LAST-MODIFIED:20171013T032144Z
UID:1253-1508007600-1508014800@www.bumperball.co.nz
SUMMARY:Counties Manukau Steelers
DESCRIPTION:We will be pre-game and half time entertainment for the Steelers final match of the season at Ecolight Stadium\, vs Tasman Makos. Come along and see the biggest hits of the year!
URL:http://www.bumperball.co.nz/event/counties-manukau-steelers/
LOCATION:Franklin Road\, Pukekohe\, 2120\, New Zealand
CATEGORIES:Special Events
ATTACH;FMTTYPE=image/jpeg:http://www.bumperball.co.nz/wp-content/uploads/2017/09/20170928_100444.jpg
END:VEVENT
END:VCALENDAR