BEGIN:VCALENDAR
VERSION:2.0
PRODID:-//Bumper Ball - ECPv4.3.4.2//NONSGML v1.0//EN
CALSCALE:GREGORIAN
METHOD:PUBLISH
X-WR-CALNAME:Bumper Ball
X-ORIGINAL-URL:http://www.bumperball.co.nz
X-WR-CALDESC:Events for Bumper Ball
BEGIN:VEVENT
DTSTART;TZID=Pacific/Auckland:20180127T080000
DTEND;TZID=Pacific/Auckland:20180128T170000
DTSTAMP:20180123T172043
CREATED:20180116T085129Z
LAST-MODIFIED:20180116T085129Z
UID:1310-1517040000-1517158800@www.bumperball.co.nz
SUMMARY:Edendale Crank Up 2018
DESCRIPTION:Come along to the 31st Annual Crank Up Weekend held in Edendale - an excellent weekend of fun and entertainment for the whole family!\n\nFeaturing John Deere\, Chrysler Family & a Century of Fordson\n\nWith very special guest Marc Ellis!\n\nThe celebrations kick off with a street parade through Edendale\, starting at 7pm on Friday 26th January.\n\nGates for Crank Up open at 10am on Saturday and Sunday at the Edendale Recreation Grounds.\n\nLoads of entertainment all weekend\n\n \tFood & craft stalls\n \tChildren's entertainment\n \tBumper Ball!\n \tChaff cutting\n \tTractor display\n \tPipe bands\n \tVintage cars\n \tStationary engines\n \tDeep South Rhythm Band\n \tVintage Shearing\n \tGrand parade\n \tHelicopter rides\n \tTraction engines\n \tCountry music\n \tLawnmower racing\n \tPlus more!\n\nFor more information click here to visit the official Crank Up website
URL:http://www.bumperball.co.nz/event/edendale-crank-up-2018/
LOCATION:80 Edendale Woodlands Highway\, Edendale\, 9871\, New Zealand
CATEGORIES:Community Events,Invercargill,Southland
ATTACH;FMTTYPE=image/png:http://www.bumperball.co.nz/wp-content/uploads/2018/01/header.png
END:VEVENT
END:VCALENDAR