BEGIN:VCALENDAR
VERSION:2.0
PRODID:-//Bumper Ball - ECPv4.3.4.2//NONSGML v1.0//EN
CALSCALE:GREGORIAN
METHOD:PUBLISH
X-WR-CALNAME:Bumper Ball
X-ORIGINAL-URL:http://www.bumperball.co.nz
X-WR-CALDESC:Events for Bumper Ball
BEGIN:VEVENT
DTSTART;TZID=Pacific/Auckland:20170129T100000
DTEND;TZID=Pacific/Auckland:20170129T150000
DTSTAMP:20180125T142604
CREATED:20170123T220516Z
LAST-MODIFIED:20170123T220516Z
UID:744-1485684000-1485702000@www.bumperball.co.nz
SUMMARY:Medieval Madness 2017
DESCRIPTION:Calling all Lords\, Ladies\, monks\, maidens\, minstrels and serfs for a day of frivolity and family fun.\nDaring joustings displays by the brave knights and mounts of the Guild of the Hawks.\nClan Celtica are returning again this year. This Auckland band with its own form of "tribal thunder" was a huge hit last year.\nWe encourage you to come in costume. You may win a prize!\nTry your hand at archery\, watch the blacksmith at work in the forge plus minstrels\, pony rides\, face-painting\, train rides\, games and food. And Bumper Ball Northland will be there!\nMuseum and Kiwi House included!\n\nA fun and entertaining day out for the whole family.
URL:http://www.bumperball.co.nz/event/medieval-madness-2017/
LOCATION:500 SH 14\, Whangarei\, 0114\, New Zealand
CATEGORIES:Northland,Whangarei
ATTACH;FMTTYPE=image/jpeg:http://www.bumperball.co.nz/wp-content/uploads/2017/01/16177870_1234143066622304_6439710124939276010_o.jpg
END:VEVENT
END:VCALENDAR