BEGIN:VCALENDAR
VERSION:2.0
PRODID:-//Bumper Ball - ECPv4.3.4.2//NONSGML v1.0//EN
CALSCALE:GREGORIAN
METHOD:PUBLISH
X-WR-CALNAME:Bumper Ball
X-ORIGINAL-URL:http://www.bumperball.co.nz
X-WR-CALDESC:Events for Bumper Ball
BEGIN:VEVENT
DTSTART;TZID=Pacific/Auckland:20170303T170000
DTEND;TZID=Pacific/Auckland:20170303T190000
DTSTAMP:20180125T142430
CREATED:20170222T212050Z
LAST-MODIFIED:20170222T212050Z
UID:793-1488560400-1488567600@www.bumperball.co.nz
SUMMARY:Miramar Central School Ethnic Food Fair
DESCRIPTION:Come and help celebrate Miramar Central School's Annual Ethnic Food Fair. There will be more fun and games than you can poke a stick at\, while you enjoy an amazing selection of ethnic foods from our local community.\n\nIndian\, Middle Eastern\, Hangi\, Pacific\, Greek\, Lebanese\, Mexican\, BBQ\, Cambodian/South East Asian\, Roti bread\, African\, Chinese\, Somali\, as well as a cafe and cakes and a raffle prizes
URL:http://www.bumperball.co.nz/event/miramar-central-school-ethnic-food-fair/
LOCATION:38 Park Road\, Miramar\, Wellington\, 6022
CATEGORIES:Wellington
ATTACH;FMTTYPE=image/jpeg:http://www.bumperball.co.nz/wp-content/uploads/2017/02/16708462_771001596388562_2790106766499976687_n.jpg
END:VEVENT
END:VCALENDAR