BEGIN:VCALENDAR
VERSION:2.0
PRODID:-//Bumper Ball - ECPv4.3.4.2//NONSGML v1.0//EN
CALSCALE:GREGORIAN
METHOD:PUBLISH
X-WR-CALNAME:Bumper Ball
X-ORIGINAL-URL:http://www.bumperball.co.nz
X-WR-CALDESC:Events for Bumper Ball
BEGIN:VEVENT
DTSTART;TZID=Pacific/Auckland:20170114T100000
DTEND;TZID=Pacific/Auckland:20170114T160000
DTSTAMP:20180125T140841
CREATED:20170112T024917Z
LAST-MODIFIED:20170112T025204Z
UID:724-1484388000-1484409600@www.bumperball.co.nz
SUMMARY:Paeroa A & P Show
DESCRIPTION:
URL:http://www.bumperball.co.nz/event/paeroa-a-p-show/
LOCATION:202 Kaikahu Road\, Kerepehi\, New Zealand
CATEGORIES:Bay of Plenty
END:VEVENT
END:VCALENDAR