BEGIN:VCALENDAR
VERSION:2.0
PRODID:-//Bumper Ball - ECPv4.3.4.2//NONSGML v1.0//EN
CALSCALE:GREGORIAN
METHOD:PUBLISH
X-WR-CALNAME:Bumper Ball
X-ORIGINAL-URL:http://www.bumperball.co.nz
X-WR-CALDESC:Events for Bumper Ball
BEGIN:VEVENT
DTSTART;TZID=Pacific/Auckland:20171125T090000
DTEND;TZID=Pacific/Auckland:20171125T140000
DTSTAMP:20180125T141855
CREATED:20171115T033422Z
LAST-MODIFIED:20171115T033422Z
UID:1278-1511600400-1511618400@www.bumperball.co.nz
SUMMARY:Pokeno School Gala
DESCRIPTION:Our annual school gala with rides and entertainment.\n\n- Ice Skating Rink\n- Pony Rides\n- Rock Wall\n- Bumper Balls\n- Ride On Cars\n- Mechanical Surfboard\n- Racing Toilets\n- Live entertainment\n- Hook a Duck\n- Tin Topple\n- Lucky Sticks\n- Gloop Balls\n- Face Painting\n- TOY SALE\n- White Elephant\n- Plant and Produce Market\n- Cake Stall\n- BBQ\n- Raffles\n- Silent Auction\n- Game stalls and much much more.\n\nCash only on the day\, Eftpos available at the office for cash out.
URL:http://www.bumperball.co.nz/event/pokeno-school-gala/
LOCATION:54 Pokeno Road\, Pokeno\, 2472\, New Zealand
CATEGORIES:Auckland,Community Events,School Gala
ATTACH;FMTTYPE=image/jpeg:http://www.bumperball.co.nz/wp-content/uploads/2016/12/random-11.jpg
END:VEVENT
END:VCALENDAR