BEGIN:VCALENDAR
VERSION:2.0
PRODID:-//Bumper Ball - ECPv4.3.4.2//NONSGML v1.0//EN
CALSCALE:GREGORIAN
METHOD:PUBLISH
X-WR-CALNAME:Bumper Ball
X-ORIGINAL-URL:http://www.bumperball.co.nz
X-WR-CALDESC:Events for Bumper Ball
BEGIN:VEVENT
DTSTART;TZID=Pacific/Auckland:20170318T110000
DTEND;TZID=Pacific/Auckland:20170318T150000
DTSTAMP:20180125T142423
CREATED:20170316T073745Z
LAST-MODIFIED:20170316T073745Z
UID:819-1489834800-1489849200@www.bumperball.co.nz
SUMMARY:Pukerua Bay School Village Fair
DESCRIPTION:Enjoy the traditions of a Village Fair with live music from Celtic band In Like Flynn and Steve from the Sugar Gliders\, delicious food and great bargains at the Pukerua Bay School Village Fair.\n\nAll our usual stalls will be there\, including plants and produce\, bric-a-brac\, crafts\, toys\, books\, clothing and sweets. Enjoy the hot rod display\, plus our range of food\, cakes\, homemade lemonade and great coffee.\n\nThe kids will be entertained with Bubble Soccer\, the bouncy castle\, big slide and lots more. The popular Fairy & Elf Land this year has fun kids’ crafts\, face painting and storytelling for the littlies.\n\nIt’s a fabulous day out. Come along and enjoy our Village Fair atmosphere in Pukerua Bay.
URL:http://www.bumperball.co.nz/event/pukerua-bay-school-village-fair/
LOCATION:Rawhiti Road\, Pukerua Bay\, Porirua\, New Zealand
CATEGORIES:School Gala,Wellington
ATTACH;FMTTYPE=image/jpeg:http://www.bumperball.co.nz/wp-content/uploads/2017/03/16938781_585727628303389_275687121378823012_n.jpg
END:VEVENT
END:VCALENDAR