BEGIN:VCALENDAR
VERSION:2.0
PRODID:-//Bumper Ball - ECPv4.3.4.2//NONSGML v1.0//EN
CALSCALE:GREGORIAN
METHOD:PUBLISH
X-WR-CALNAME:Bumper Ball
X-ORIGINAL-URL:http://www.bumperball.co.nz
X-WR-CALDESC:Events for Bumper Ball
BEGIN:VEVENT
DTSTART;VALUE=DATE:20170223
DTEND;VALUE=DATE:20170226
DTSTAMP:20180125T142535
CREATED:20170117T032205Z
LAST-MODIFIED:20170117T032205Z
UID:736-1487808000-1488153599@www.bumperball.co.nz
SUMMARY:Tauranga Show Jumping
DESCRIPTION:The Bumper Ball BOP team will be providing evening entertainment at this great event. Thanks to Rory and Cyclo-ssage for making this possible\n\nTauranga Show Jumping Group are proud to be hosting the North Island Show Jumping Championships at Tauranga Racecourse. Last BIG show the week before Horse of the Year!
URL:http://www.bumperball.co.nz/event/tauranga-show-jumping/
LOCATION:284 Maungatapu Road\, Tauranga\, New Zealand
CATEGORIES:Bay of Plenty,Tauranga
ATTACH;FMTTYPE=image/jpeg:http://www.bumperball.co.nz/wp-content/uploads/2016/12/sam-09.jpg
END:VEVENT
END:VCALENDAR