BEGIN:VCALENDAR
VERSION:2.0
PRODID:-//Bumper Ball - ECPv4.3.4.2//NONSGML v1.0//EN
CALSCALE:GREGORIAN
METHOD:PUBLISH
X-WR-CALNAME:Bumper Ball
X-ORIGINAL-URL:http://www.bumperball.co.nz
X-WR-CALDESC:Events for Bumper Ball
BEGIN:VEVENT
DTSTART;TZID=Pacific/Auckland:20171022T110000
DTEND;TZID=Pacific/Auckland:20171022T150000
DTSTAMP:20180125T141814
CREATED:20171013T032807Z
LAST-MODIFIED:20171013T032807Z
UID:1256-1508670000-1508684400@www.bumperball.co.nz
SUMMARY:Teddy Bears Picnic
DESCRIPTION:This is a fun day out for the whole family. We have free registration for teddy bears lots of races and games for free.\n\nCraft stores food caravans and also amusements rides and Pony rides\, 4x4 Jeeps for children\, or you can just pack a picnic and sit in the sun.
URL:http://www.bumperball.co.nz/event/teddy-bears-picnic/
LOCATION:Kennedy Road\, Napier\, New Zealand
CATEGORIES:Community Events,Hawke's Bay,Napier
ATTACH;FMTTYPE=image/jpeg:http://www.bumperball.co.nz/wp-content/uploads/2016/12/sam-04.jpg
END:VEVENT
END:VCALENDAR