BEGIN:VCALENDAR
VERSION:2.0
PRODID:-//Bumper Ball - ECPv4.3.4.2//NONSGML v1.0//EN
CALSCALE:GREGORIAN
METHOD:PUBLISH
X-WR-CALNAME:Bumper Ball
X-ORIGINAL-URL:http://www.bumperball.co.nz
X-WR-CALDESC:Events for Bumper Ball
BEGIN:VEVENT
DTSTART;TZID=Pacific/Auckland:20171112T090000
DTEND;TZID=Pacific/Auckland:20171112T120000
DTSTAMP:20180125T141833
CREATED:20170822T093814Z
LAST-MODIFIED:20170822T093814Z
UID:1216-1510477200-1510488000@www.bumperball.co.nz
SUMMARY:Walk 2 D'feet 2017
DESCRIPTION:The Auckland Walk 2 D'Feet MND is on Sunday\, 12 November at Ken Maunder Park in New Lynn. Please note that this is a different location to previous years' events in Auckland!\n\nCome to register and pick up your t-shirt and other merchandise from 9am. There will be a brief welcome then the walk will begin at 10:30am.\n\nThe walk is a 1km loop on flat terrain and it will be wheel-friendly for wheelchairs\, prams and strollers. Our lead walkers will do the loop 3 times. Feel free to join them as much as (or as little) you like. Please wear appropriate clothing and footwear\, bring water\, and be prepared for all weather. Wet or fine\, we go ahead!\n\nKids are welcome. Dogs are welcome too – they may even like their own t-shirt! Just remember they need to be on a lead and under control.\n\nOur theme is Superheroes and Super-dogs! There will be live music\, bumper balls\, and face-painting. We will also have 'best dressed bikes' for under 6 years of age and even a Superhero Dog Parade!\n\nWalks 2 D’Feet MND are being held all over New Zealand as the main annual fundraiser for MND New Zealand. Half of the funds we raise will go towards supporting MND research in New Zealand\, and the other half will allow us to continue our crucial work providing support for people with MND and their carers.\n\n\nBumper Ball will be there and all proceeds from the day will go to MND NZ\n\n\nThere will be places available for businesses to set up stalls for a fee. Please contact Annette Wright at annettetwright@xtra.co.nz for details
URL:http://www.bumperball.co.nz/event/walk-2-dfeet-2017/
LOCATION:New Lynn\, Auckland\, 0600\, New Zealand
CATEGORIES:Auckland,Community Events,Special Events
ATTACH;FMTTYPE=image/jpeg:http://www.bumperball.co.nz/wp-content/uploads/2017/08/20800178_684053595138735_2633863419819839253_n.jpg
END:VEVENT
END:VCALENDAR