BEGIN:VCALENDAR
VERSION:2.0
PRODID:-//Bumper Ball - ECPv4.3.4.2//NONSGML v1.0//EN
CALSCALE:GREGORIAN
METHOD:PUBLISH
X-WR-CALNAME:Bumper Ball
X-ORIGINAL-URL:http://www.bumperball.co.nz
X-WR-CALDESC:Events for Bumper Ball
BEGIN:VEVENT
DTSTART;TZID=Pacific/Auckland:20170225T110000
DTEND;TZID=Pacific/Auckland:20170225T140000
DTSTAMP:20180125T142725
CREATED:20170214T193546Z
LAST-MODIFIED:20170214T193546Z
UID:782-1488020400-1488031200@www.bumperball.co.nz
SUMMARY:West Fest 2017
DESCRIPTION:West Park School's fantastic community gala filled with fun\, food\, and fabulousness. In 2017 we are super excited to be bringing the Webb Ellis Rugby World Cup to Johnsonville for you to see\, take pictures of and with!\nWe can't wait to see you there!
URL:http://www.bumperball.co.nz/event/west-fest-2017/
LOCATION:Broderick Road\, Wellington
CATEGORIES:Wellington
ATTACH;FMTTYPE=image/png:http://www.bumperball.co.nz/wp-content/uploads/2017/02/WestFest-Logo-01.png
END:VEVENT
END:VCALENDAR